BEGIN:VCALENDAR
VERSION:2.0
PRODID:-//wp-events-plugin.com//7.2.3.1//EN
BEGIN:VEVENT
UID:75@trouwekameraden.nl
DTSTART;VALUE=DATE:20250727
DTEND;VALUE=DATE:20250728
DTSTAMP:20250103T212431Z
URL:https://trouwekameraden.nl/evenementen/dressuurwedstrijd-6/
SUMMARY:Dressuurwedstrijd
DESCRIPTION:Voor pony's en paarden. Inschrijven via mijnknhs.nl.
CATEGORIES:Dressuurwedstrijden
LOCATION:clubterrein PSV de Trouwe Kameraden\, Gilzeweg 43C\, Chaam\, Neder
 land
X-APPLE-STRUCTURED-LOCATION;VALUE=URI;X-ADDRESS=Gilzeweg 43C\, Chaam\, Nede
 rland;X-APPLE-RADIUS=100;X-TITLE=clubterrein PSV de Trouwe Kameraden:geo:0
 ,0
END:VEVENT
END:VCALENDAR